BEGIN:VCALENDAR
VERSION:2.0
PRODID:-//Plone.org//NONSGML plone.app.event//EN
X-WR-TIMEZONE:Brazil/East
BEGIN:VEVENT
SUMMARY:Sessão Ordinária
DTSTART;TZID=Brazil/East;VALUE=DATE-TIME:20240911T190000
DTEND;TZID=Brazil/East;VALUE=DATE-TIME:20240911T200000
DTSTAMP;VALUE=DATE-TIME:20260422T062017Z
UID:e089bb06248940f186bd4d2c793058aa@www.cajueirodapraia.pi.leg.br
CREATED;VALUE=DATE-TIME:20240801T143154Z
LAST-MODIFIED;VALUE=DATE-TIME:20240801T143158Z
URL:https://www.cajueirodapraia.pi.leg.br/institucional/eventos/sessao-ord
 inaria-4
END:VEVENT
BEGIN:VTIMEZONE
TZID:Brazil/East
X-LIC-LOCATION:Brazil/East
BEGIN:STANDARD
DTSTART;VALUE=DATE-TIME:20240217T230000
TZNAME:BRT
TZOFFSETFROM:-0200
TZOFFSETTO:-0300
END:STANDARD
END:VTIMEZONE
END:VCALENDAR
