BEGIN:VCALENDAR
VERSION:2.0
PRODID:-//Plone.org//NONSGML plone.app.event//EN
X-WR-TIMEZONE:Brazil/East
BEGIN:VEVENT
SUMMARY:3ª Sessão de outubro
DTSTART;TZID=Brazil/East;VALUE=DATE-TIME:20171010T193000
DTEND;TZID=Brazil/East;VALUE=DATE-TIME:20171010T213000
DTSTAMP;VALUE=DATE-TIME:20260423T074101Z
UID:52b8299f73554ed6930fe41a11ea188d@cajueirodapraia.pi.leg.br
ATTENDEE;CN="Vereadores e população";ROLE=REQ-PARTICIPANT:Vereadores e p
 opulação
CREATED;VALUE=DATE-TIME:20170922T151851Z
LAST-MODIFIED;VALUE=DATE-TIME:20170922T151906Z
URL:https://www.cajueirodapraia.pi.leg.br/institucional/eventos/3a-sessao-
 de-outubro
END:VEVENT
BEGIN:VTIMEZONE
TZID:Brazil/East
X-LIC-LOCATION:Brazil/East
BEGIN:STANDARD
DTSTART;VALUE=DATE-TIME:20170218T230000
TZNAME:BRT
TZOFFSETFROM:-0200
TZOFFSETTO:-0300
END:STANDARD
END:VTIMEZONE
END:VCALENDAR
